BEGIN:VCALENDAR
VERSION:2.0
PRODID:icalendar-ruby
CALSCALE:GREGORIAN
METHOD:PUBLISH
BEGIN:VEVENT
DTSTAMP:20260419T161015Z
UID:154-258554@bethanylutheranboone.com
DTSTART:20260419T123000Z
DTEND:20260419T140000Z
CLASS:PUBLIC
CREATED:20260308T155713
DESCRIPTION:
LAST-MODIFIED:20260308T155713
LOCATION:
SUMMARY:Council
URL;VALUE=URI:https://www.bethanylutheranboone.com/events/council--154/2026
 -04-19
END:VEVENT
END:VCALENDAR
