BEGIN:VCALENDAR
VERSION:2.0
PRODID:icalendar-ruby
CALSCALE:GREGORIAN
METHOD:PUBLISH
BEGIN:VEVENT
DTSTAMP:20260419T160450Z
UID:103-324383@bethanylutheranboone.com
DTSTART:20260419T213000Z
DTEND:20260419T233000Z
CLASS:PUBLIC
CREATED:20260419T110333
DESCRIPTION:
LAST-MODIFIED:20260419T110333
LOCATION:
SUMMARY:Youth Group at Grace
URL;VALUE=URI:https://www.bethanylutheranboone.com/events/youth-group-at-gr
 ace/2026-04-19
END:VEVENT
END:VCALENDAR
