BEGIN:VCALENDAR
VERSION:2.0
PRODID:icalendar-ruby
CALSCALE:GREGORIAN
METHOD:PUBLISH
BEGIN:VEVENT
DTSTAMP:20260419T193839Z
UID:103-324632@bethanylutheranboone.com
DTSTART:20260503T213000Z
DTEND:20260503T233000Z
CLASS:PUBLIC
CREATED:20260419T144529
DESCRIPTION:
LAST-MODIFIED:20260419T144529
LOCATION:
SUMMARY:Youth Group at Grace
URL;VALUE=URI:https://www.bethanylutheranboone.com/events/youth-group-at-gr
 ace/2026-05-03
END:VEVENT
END:VCALENDAR
