BEGIN:VCALENDAR
VERSION:2.0
PRODID:icalendar-ruby
CALSCALE:GREGORIAN
METHOD:PUBLISH
BEGIN:VEVENT
DTSTAMP:20260419T232308Z
UID:103-324881@bethanylutheranboone.com
DTSTART:20260517T213000Z
DTEND:20260517T233000Z
CLASS:PUBLIC
CREATED:20260419T182817
DESCRIPTION:
LAST-MODIFIED:20260419T182817
LOCATION:
SUMMARY:Youth Group at Grace
URL;VALUE=URI:https://www.bethanylutheranboone.com/events/youth-group-at-gr
 ace/2026-05-17
END:VEVENT
END:VCALENDAR
