BEGIN:VCALENDAR
VERSION:2.0
PRODID:icalendar-ruby
CALSCALE:GREGORIAN
METHOD:PUBLISH
BEGIN:VEVENT
DTSTAMP:20260420T023418Z
UID:103-325130@bethanylutheranboone.com
DTSTART:20260531T213000Z
DTEND:20260531T233000Z
CLASS:PUBLIC
CREATED:20260419T220807
DESCRIPTION:
LAST-MODIFIED:20260419T220807
LOCATION:
SUMMARY:Youth Group at Grace
URL;VALUE=URI:https://www.bethanylutheranboone.com/events/youth-group-at-gr
 ace/2026-05-31
END:VEVENT
END:VCALENDAR
