BEGIN:VCALENDAR
VERSION:2.0
PRODID:icalendar-ruby
CALSCALE:GREGORIAN
METHOD:PUBLISH
BEGIN:VEVENT
DTSTAMP:20260420T054911Z
UID:103-325380@bethanylutheranboone.com
DTSTART:20260614T213000Z
DTEND:20260614T233000Z
CLASS:PUBLIC
CREATED:20260420T014507
DESCRIPTION:
LAST-MODIFIED:20260420T014507
LOCATION:
SUMMARY:Youth Group at Grace
URL;VALUE=URI:https://www.bethanylutheranboone.com/events/youth-group-at-gr
 ace/2026-06-14
END:VEVENT
END:VCALENDAR
