BEGIN:VCALENDAR
VERSION:2.0
PRODID:icalendar-ruby
CALSCALE:GREGORIAN
METHOD:PUBLISH
BEGIN:VEVENT
DTSTAMP:20260420T101651Z
UID:103-325383@bethanylutheranboone.com
DTSTART:20260705T213000Z
DTEND:20260705T233000Z
CLASS:PUBLIC
CREATED:20260420T014507
DESCRIPTION:
LAST-MODIFIED:20260420T014507
LOCATION:
SUMMARY:Youth Group at Grace
URL;VALUE=URI:https://www.bethanylutheranboone.com/events/youth-group-at-gr
 ace/2026-07-05
END:VEVENT
END:VCALENDAR
