BEGIN:VCALENDAR
VERSION:2.0
PRODID:icalendar-ruby
CALSCALE:GREGORIAN
METHOD:PUBLISH
BEGIN:VEVENT
DTSTAMP:20260420T125201Z
UID:103-325633@bethanylutheranboone.com
DTSTART:20260719T213000Z
DTEND:20260719T233000Z
CLASS:PUBLIC
CREATED:20260420T065534
DESCRIPTION:
LAST-MODIFIED:20260420T065534
LOCATION:
SUMMARY:Youth Group at Grace
URL;VALUE=URI:https://www.bethanylutheranboone.com/events/youth-group-at-gr
 ace/2026-07-19
END:VEVENT
END:VCALENDAR
