BEGIN:VCALENDAR
VERSION:2.0
PRODID:icalendar-ruby
CALSCALE:GREGORIAN
METHOD:PUBLISH
BEGIN:VEVENT
DTSTAMP:20260420T141235Z
UID:103-325882@bethanylutheranboone.com
DTSTART:20260726T213000Z
DTEND:20260726T233000Z
CLASS:PUBLIC
CREATED:20260420T093117
DESCRIPTION:
LAST-MODIFIED:20260420T093117
LOCATION:
SUMMARY:Youth Group at Grace
URL;VALUE=URI:https://www.bethanylutheranboone.com/events/youth-group-at-gr
 ace/2026-07-26
END:VEVENT
END:VCALENDAR
