BEGIN:VCALENDAR
VERSION:2.0
PRODID:icalendar-ruby
CALSCALE:GREGORIAN
METHOD:PUBLISH
BEGIN:VEVENT
DTSTAMP:20260420T180159Z
UID:103-326133@bethanylutheranboone.com
DTSTART:20260816T213000Z
DTEND:20260816T233000Z
CLASS:PUBLIC
CREATED:20260420T120513
DESCRIPTION:
LAST-MODIFIED:20260420T120513
LOCATION:
SUMMARY:Youth Group at Grace
URL;VALUE=URI:https://www.bethanylutheranboone.com/events/youth-group-at-gr
 ace/2026-08-16
END:VEVENT
END:VCALENDAR
