BEGIN:VCALENDAR
VERSION:2.0
PRODID:icalendar-ruby
CALSCALE:GREGORIAN
METHOD:PUBLISH
BEGIN:VEVENT
DTSTAMP:20260420T193218Z
UID:103-326382@bethanylutheranboone.com
DTSTART:20260823T213000Z
DTEND:20260823T233000Z
CLASS:PUBLIC
CREATED:20260420T143926
DESCRIPTION:
LAST-MODIFIED:20260420T143926
LOCATION:
SUMMARY:Youth Group at Grace
URL;VALUE=URI:https://www.bethanylutheranboone.com/events/youth-group-at-gr
 ace/2026-08-23
END:VEVENT
END:VCALENDAR
