BEGIN:VCALENDAR
VERSION:2.0
PRODID:icalendar-ruby
CALSCALE:GREGORIAN
METHOD:PUBLISH
BEGIN:VEVENT
DTSTAMP:20260421T012629Z
UID:103-326883@bethanylutheranboone.com
DTSTART:20260920T213000Z
DTEND:20260920T233000Z
CLASS:PUBLIC
CREATED:20260420T195033
DESCRIPTION:
LAST-MODIFIED:20260420T195033
LOCATION:
SUMMARY:Youth Group at Grace
URL;VALUE=URI:https://www.bethanylutheranboone.com/events/youth-group-at-gr
 ace/2026-09-20
END:VEVENT
END:VCALENDAR
