BEGIN:VCALENDAR
VERSION:2.0
PRODID:icalendar-ruby
CALSCALE:GREGORIAN
METHOD:PUBLISH
BEGIN:VEVENT
DTSTAMP:20260421T091638Z
UID:103-326888@bethanylutheranboone.com
DTSTART:20261025T213000Z
DTEND:20261025T233000Z
CLASS:PUBLIC
CREATED:20260420T195033
DESCRIPTION:
LAST-MODIFIED:20260420T195033
LOCATION:
SUMMARY:Youth Group at Grace
URL;VALUE=URI:https://www.bethanylutheranboone.com/events/youth-group-at-gr
 ace/2026-10-25
END:VEVENT
END:VCALENDAR
